BEGIN:VCALENDAR
VERSION:2.0
PRODID:-//KKAL - San Luis Obispo, CA - ECPv5.6.0//NONSGML v1.0//EN
CALSCALE:GREGORIAN
METHOD:PUBLISH
X-WR-CALNAME:KKAL - San Luis Obispo, CA
X-ORIGINAL-URL:https://www.krush925.com
X-WR-CALDESC:Events for KKAL - San Luis Obispo, CA
BEGIN:VTIMEZONE
TZID:America/Los_Angeles
BEGIN:DAYLIGHT
TZOFFSETFROM:-0800
TZOFFSETTO:-0700
TZNAME:PDT
DTSTART:20260308T100000
END:DAYLIGHT
BEGIN:STANDARD
TZOFFSETFROM:-0700
TZOFFSETTO:-0800
TZNAME:PST
DTSTART:20261101T090000
END:STANDARD
END:VTIMEZONE
BEGIN:VEVENT
DTSTART;TZID=America/Los_Angeles:20261007T190000
DTEND;TZID=America/Los_Angeles:20261007T213000
DTSTAMP:20260424T152957
CREATED:20260416T231233Z
LAST-MODIFIED:20260416T231233Z
UID:85710-1791399600-1791408600@www.krush925.com
SUMMARY:Marshall Tucker Band
DESCRIPTION:
URL:https://www.krush925.com/event/marshall-tucker-band/
LOCATION:Cal Poly Performing Arts Center\, 1 Grand Ave\, San Luis Obispo\, CA\, 93407
CATEGORIES:Event
ATTACH;FMTTYPE=image/jpeg:https://dehayf5mhw1h7.cloudfront.net/wp-content/uploads/sites/1599/2026/04/16161223/marshall-tucker-band-pacslo.jpg
GEO:35.3011322;-120.6587483
X-APPLE-STRUCTURED-LOCATION;VALUE=URI;X-ADDRESS=Cal Poly Performing Arts Center 1 Grand Ave San Luis Obispo CA 93407;X-APPLE-RADIUS=500;X-TITLE=1 Grand Ave:geo:-120.6587483,35.3011322
END:VEVENT
END:VCALENDAR