BEGIN:VCALENDAR
VERSION:2.0
PRODID:-//KKAL - San Luis Obispo, CA - ECPv5.6.0//NONSGML v1.0//EN
CALSCALE:GREGORIAN
METHOD:PUBLISH
X-WR-CALNAME:KKAL - San Luis Obispo, CA
X-ORIGINAL-URL:https://www.krush925.com
X-WR-CALDESC:Events for KKAL - San Luis Obispo, CA
BEGIN:VTIMEZONE
TZID:America/Los_Angeles
BEGIN:DAYLIGHT
TZOFFSETFROM:-0800
TZOFFSETTO:-0700
TZNAME:PDT
DTSTART:20260308T100000
END:DAYLIGHT
BEGIN:STANDARD
TZOFFSETFROM:-0700
TZOFFSETTO:-0800
TZNAME:PST
DTSTART:20261101T090000
END:STANDARD
END:VTIMEZONE
BEGIN:VEVENT
DTSTART;TZID=America/Los_Angeles:20260719T080000
DTEND;TZID=America/Los_Angeles:20260719T170000
DTSTAMP:20260424T012848
CREATED:20260416T224627Z
LAST-MODIFIED:20260416T224627Z
UID:85683-1784448000-1784480400@www.krush925.com
SUMMARY:Rainbow Kitten Surprise
DESCRIPTION:
URL:https://www.krush925.com/event/rainbow-kitten-surprise-2/
LOCATION:Santa Barbara Bowl\, 1122 N Milpas St\, Santa Barbara\, CA\, 93103\, United States
CATEGORIES:Event
ATTACH;FMTTYPE=image/jpeg:https://dehayf5mhw1h7.cloudfront.net/wp-content/uploads/sites/1599/2026/04/16154612/sbb26-rks-1200x-v1.jpg
GEO:34.4350974;-119.6934165
X-APPLE-STRUCTURED-LOCATION;VALUE=URI;X-ADDRESS=Santa Barbara Bowl 1122 N Milpas St Santa Barbara CA 93103 United States;X-APPLE-RADIUS=500;X-TITLE=1122 N Milpas St:geo:-119.6934165,34.4350974
END:VEVENT
END:VCALENDAR