BEGIN:VCALENDAR
VERSION:2.0
PRODID:-//KKAL - San Luis Obispo, CA - ECPv5.6.0//NONSGML v1.0//EN
CALSCALE:GREGORIAN
METHOD:PUBLISH
X-WR-CALNAME:KKAL - San Luis Obispo, CA
X-ORIGINAL-URL:https://www.krush925.com
X-WR-CALDESC:Events for KKAL - San Luis Obispo, CA
BEGIN:VTIMEZONE
TZID:America/Los_Angeles
BEGIN:DAYLIGHT
TZOFFSETFROM:-0800
TZOFFSETTO:-0700
TZNAME:PDT
DTSTART:20260308T100000
END:DAYLIGHT
BEGIN:STANDARD
TZOFFSETFROM:-0700
TZOFFSETTO:-0800
TZNAME:PST
DTSTART:20261101T090000
END:STANDARD
END:VTIMEZONE
BEGIN:VEVENT
DTSTART;TZID=America/Los_Angeles:20260627T080000
DTEND;TZID=America/Los_Angeles:20260627T170000
DTSTAMP:20260423T220417
CREATED:20260416T231814Z
LAST-MODIFIED:20260416T231814Z
UID:85716-1782547200-1782579600@www.krush925.com
SUMMARY:Rodgers & Hammerstein's Sound of Music Sing A Long
DESCRIPTION:
URL:https://www.krush925.com/event/rodgers-hammersteins-sound-of-music-sing-a-long/
LOCATION:Vina Robles Amphitheatre\, 3800 Mill Road\, Paso Robles\, CA\, 93446\, United States
CATEGORIES:Event
ATTACH;FMTTYPE=image/jpeg:https://dehayf5mhw1h7.cloudfront.net/wp-content/uploads/sites/1599/2026/04/16161804/thesoundofmusic-vra.jpg
GEO:35.646229;-120.628661
X-APPLE-STRUCTURED-LOCATION;VALUE=URI;X-ADDRESS=Vina Robles Amphitheatre 3800 Mill Road Paso Robles CA 93446 United States;X-APPLE-RADIUS=500;X-TITLE=3800 Mill Road:geo:-120.628661,35.646229
END:VEVENT
END:VCALENDAR