BEGIN:VCALENDAR
VERSION:2.0
PRODID:-//KKAL - San Luis Obispo, CA - ECPv5.6.0//NONSGML v1.0//EN
CALSCALE:GREGORIAN
METHOD:PUBLISH
X-WR-CALNAME:KKAL - San Luis Obispo, CA
X-ORIGINAL-URL:https://www.krush925.com
X-WR-CALDESC:Events for KKAL - San Luis Obispo, CA
BEGIN:VTIMEZONE
TZID:America/Los_Angeles
BEGIN:DAYLIGHT
TZOFFSETFROM:-0800
TZOFFSETTO:-0700
TZNAME:PDT
DTSTART:20260308T100000
END:DAYLIGHT
BEGIN:STANDARD
TZOFFSETFROM:-0700
TZOFFSETTO:-0800
TZNAME:PST
DTSTART:20261101T090000
END:STANDARD
END:VTIMEZONE
BEGIN:VEVENT
DTSTART;TZID=America/Los_Angeles:20260613T190000
DTEND;TZID=America/Los_Angeles:20260613T213000
DTSTAMP:20260423T205459
CREATED:20260416T225024Z
LAST-MODIFIED:20260416T225024Z
UID:85692-1781377200-1781386200@www.krush925.com
SUMMARY:The Black Keys
DESCRIPTION:
URL:https://www.krush925.com/event/the-black-keys-2/
LOCATION:Santa Barbara Bowl\, 1122 N Milpas St\, Santa Barbara\, CA\, 93103\, United States
CATEGORIES:Event
ATTACH;FMTTYPE=image/jpeg:https://dehayf5mhw1h7.cloudfront.net/wp-content/uploads/sites/1599/2026/04/16155010/sbb26-theblackkeys_1200x-v2.jpg
GEO:34.4350974;-119.6934165
X-APPLE-STRUCTURED-LOCATION;VALUE=URI;X-ADDRESS=Santa Barbara Bowl 1122 N Milpas St Santa Barbara CA 93103 United States;X-APPLE-RADIUS=500;X-TITLE=1122 N Milpas St:geo:-119.6934165,34.4350974
END:VEVENT
END:VCALENDAR